BEGIN:VCALENDAR
VERSION:2.0
PRODID:-//eventon.com NONSGML v1.0//EN
BEGIN:VEVENT
UID:69e5e60149e43
DTSTAMP:20260420T203825
DTSTART:20171119T120000Z
DTEND:20171120T115900Z
LOCATION:Royal Society of Medicine 1 Wimpole Street\,  London\,  W1G 0AE
SUMMARY:Challenging behaviours: The positive role of medication in children and adolescents with intellectual disabilities
DESCRIPTION: &nbsp; Dr Natalie Novick Brown\,  Associate Professor in Psychiatry\,  University of Washington\,  Seattle is the keynote speaker for this day event which will provide an update on the use of medication in children and adolescents with intellectual disabilities. It will form a platform for discussing the complexities and ethics of medication[..]
END:VEVENT
END:VCALENDAR