BEGIN:VCALENDAR
VERSION:2.0
PRODID:-//eventon.com NONSGML v1.0//EN
BEGIN:VEVENT
UID:69e8c7c53877f
DTSTAMP:20260423T010613
DTSTART:20180827T120000Z
DTEND:20180901T115900Z
LOCATION:Rotterdam 
SUMMARY:21st International ISPS Conference Netherlands
DESCRIPTION: This annual conference of the International Society for Psychological and Social Approaches to Psychosis focuses on the circular relationship between psychosis and alienation\,  and the healing power of human reconnection.
END:VEVENT
END:VCALENDAR